BEGIN:VCALENDAR
VERSION:2.0
PRODID:-//CCCA - ECPv4.8.2//NONSGML v1.0//EN
CALSCALE:GREGORIAN
METHOD:PUBLISH
X-WR-CALNAME:CCCA
X-ORIGINAL-URL:https://wordpress2015.centretowncitizens.ca
X-WR-CALDESC:Events for CCCA
BEGIN:VEVENT
DTSTART;TZID=UTC+0:20161217T110000
DTEND;TZID=UTC+0:20161217T210000
DTSTAMP:20260422T191306
CREATED:20161213T180256Z
LAST-MODIFIED:20161213T180256Z
UID:703-1481972400-1482008400@wordpress2015.centretowncitizens.ca
SUMMARY:Winter Solstice @ Dundonald Park
DESCRIPTION:  \nceremonial-fire-description-2016-12-02-winter-soslstice \nA Celebration of Community\nCome join us around the Sacred Fire\nEveryone Welcome\nSaturday December 17th\n11 am to 9 pm\nLyon and Somerset Street\nSnow or Shine\nMore details on\nhttps://www.facebook.com/ \n\n\nTweet\n
URL:https://wordpress2015.centretowncitizens.ca/event/winter-solstice-dundonald-park/
LOCATION:Dundonald Park\, Somerset St W (between Bay & Lyon \, Ottawa\, Ontario\, Canada
END:VEVENT
END:VCALENDAR