BEGIN:VCALENDAR
VERSION:2.0
PRODID:-//CCCA - ECPv4.8.2//NONSGML v1.0//EN
CALSCALE:GREGORIAN
METHOD:PUBLISH
X-WR-CALNAME:CCCA
X-ORIGINAL-URL:https://wordpress2015.centretowncitizens.ca
X-WR-CALDESC:Events for CCCA
BEGIN:VEVENT
DTSTART;TZID=UTC+0:20171212T190000
DTEND;TZID=UTC+0:20171212T210000
DTSTAMP:20260422T225654
CREATED:20171105T151038Z
LAST-MODIFIED:20171209T145537Z
UID:1061-1513105200-1513112400@wordpress2015.centretowncitizens.ca
SUMMARY:Trees and Greenspace Meeting
DESCRIPTION:Our Trees and Greenspace December Meeting\, time for some Christmas Cheer! \nBillings Room. \n  \n\nTweet\n
URL:https://wordpress2015.centretowncitizens.ca/event/trees-greenspace-meeting/
LOCATION:City Hall\, 110 Laurier Avenue West\, Ottawa\, Ontario\, K1P 1J1\, Canada
END:VEVENT
END:VCALENDAR