BEGIN:VCALENDAR
VERSION:2.0
PRODID:-//CCCA - ECPv4.8.2//NONSGML v1.0//EN
CALSCALE:GREGORIAN
METHOD:PUBLISH
X-WR-CALNAME:CCCA
X-ORIGINAL-URL:https://wordpress2015.centretowncitizens.ca
X-WR-CALDESC:Events for CCCA
BEGIN:VEVENT
DTSTART;TZID=UTC-5:20180213T190000
DTEND;TZID=UTC-5:20180213T210000
DTSTAMP:20260422T134123
CREATED:20180213T144508Z
LAST-MODIFIED:20180213T145830Z
UID:1166-1518548400-1518555600@wordpress2015.centretowncitizens.ca
SUMMARY:Trees & Greenspace Committee
DESCRIPTION:CCCA Trees & Greenspace Committee Meeting\, City Hall\, Billings Room\, 7pm to 9pm \nDiscussions & Decisions \n\nUpdate from the Board:\n\nLibrary\nOther\n\n\nEarth Day and Earth Day at Dundonald Park \n\n\nPreliminary discussion on what T&G committee will do\nKristina Ropke\, Chair of the Dundonald Working Group attending as a guest to help coordinate activities with T&G\nGeneral plans of T&G for Earth Day and for Dundonald Park in particular\n\n\nCommunity Associations for Environmental Sustainability:\n\nAFES meeting on how to ID and manage the ever growing problems of waste removal in Ottawa.\n\n\nMetcalfe Extension\, Nature Museum \n\n\n\n\nReview draft of letter to date\, if available\n\n\n\n\nOff-Bank Community Garden – new business\, confirmation of opening date etc.\n11\, 15\, and 19 Frank Street – (new information or business only)\nStreet Reviews – (new information or business only)\n\nElgin Street Redesign\nSlater/Albert Street – planning priority re Convergence “gateway” concept\n\n\nOther Business\n\nMeeting locations\n\n\n\n\nTweet\n
URL:https://wordpress2015.centretowncitizens.ca/event/trees-greenspace-committee/
LOCATION:City Hall\, 110 Laurier Avenue West\, Ottawa\, Ontario\, K1P 1J1\, Canada
END:VEVENT
END:VCALENDAR