BEGIN:VCALENDAR
VERSION:2.0
PRODID:-//CCCA - ECPv4.8.2//NONSGML v1.0//EN
CALSCALE:GREGORIAN
METHOD:PUBLISH
X-WR-CALNAME:CCCA
X-ORIGINAL-URL:https://wordpress2015.centretowncitizens.ca
X-WR-CALDESC:Events for CCCA
BEGIN:VEVENT
DTSTART;TZID=UTC+0:20161108T190000
DTEND;TZID=UTC+0:20161108T203000
DTSTAMP:20260422T144200
CREATED:20161104T183752Z
LAST-MODIFIED:20161104T183940Z
UID:617-1478631600-1478637000@wordpress2015.centretowncitizens.ca
SUMMARY:Trees & Greenspace Committee meeting
DESCRIPTION:Join us for further information on other community events please contact us at ccca@centretowncitizens.ca \n\nTweet\n
URL:https://wordpress2015.centretowncitizens.ca/event/trees-greenspace-committee-meeting/
LOCATION:CCHC\, 420 Cooper Street\, Ottawa\, Ontario\, Canada
ORGANIZER;CN="CCCA":MAILTO:ccca@centretowncitizens.ca
END:VEVENT
END:VCALENDAR