BEGIN:VCALENDAR
VERSION:2.0
PRODID:-//CCCA - ECPv4.8.2//NONSGML v1.0//EN
CALSCALE:GREGORIAN
METHOD:PUBLISH
X-WR-CALNAME:CCCA
X-ORIGINAL-URL:https://wordpress2015.centretowncitizens.ca
X-WR-CALDESC:Events for CCCA
BEGIN:VEVENT
DTSTART;TZID=UTC-5:20180313T190000
DTEND;TZID=UTC-5:20180313T210000
DTSTAMP:20260422T120623
CREATED:20180221T034950Z
LAST-MODIFIED:20180301T072330Z
UID:1174-1520967600-1520974800@wordpress2015.centretowncitizens.ca
SUMMARY:Trees and Greenspace Committee Meeting
DESCRIPTION:Our monthly CCCA Trees and Greenspace Committee Meeting – At City Hall\, Billings Room\, 7pm to 9pm \n  \n\nTweet\n
URL:https://wordpress2015.centretowncitizens.ca/event/trees-greenspace-committee-meeting-4/
LOCATION:City Hall\, 110 Laurier Avenue West\, Ottawa\, Ontario\, K1P 1J1\, Canada
ORGANIZER;CN="CCCA":MAILTO:ccca@centretowncitizens.ca
END:VEVENT
END:VCALENDAR