BEGIN:VCALENDAR
VERSION:2.0
PRODID:-//CCCA - ECPv4.8.2//NONSGML v1.0//EN
CALSCALE:GREGORIAN
METHOD:PUBLISH
X-WR-CALNAME:CCCA
X-ORIGINAL-URL:https://wordpress2015.centretowncitizens.ca
X-WR-CALDESC:Events for CCCA
BEGIN:VEVENT
DTSTART;TZID=UTC+0:20170927T080000
DTEND;TZID=UTC+0:20170927T170000
DTSTAMP:20260423T060820
CREATED:20170927T125329Z
LAST-MODIFIED:20170927T125329Z
UID:907-1506499200-1506531600@wordpress2015.centretowncitizens.ca
SUMMARY:Trees & Greenspace Committee Meeting
DESCRIPTION:Our October Edition of the TNG Meeting – Tree planting dedication\, Off-Bank Garden\, Dundonald Garden\, St. Lukes Guerrilla Garden and more! \n  \n  \n\nTweet\n
URL:https://wordpress2015.centretowncitizens.ca/event/trees-greenspace-committee-meeting-2/
END:VEVENT
END:VCALENDAR