BEGIN:VCALENDAR
VERSION:2.0
PRODID:-//CCCA - ECPv4.8.2//NONSGML v1.0//EN
CALSCALE:GREGORIAN
METHOD:PUBLISH
X-WR-CALNAME:CCCA
X-ORIGINAL-URL:https://wordpress2015.centretowncitizens.ca
X-WR-CALDESC:Events for CCCA
BEGIN:VEVENT
DTSTART;TZID=UTC+0:20160607T190000
DTEND;TZID=UTC+0:20160607T203000
DTSTAMP:20260421T144228
CREATED:20160606T151529Z
LAST-MODIFIED:20160606T151529Z
UID:506-1465326000-1465331400@wordpress2015.centretowncitizens.ca
SUMMARY:Trees and Greenspace
DESCRIPTION:Centretown Community Health Centre Room 213 \nFor further information Please contact Tom Whillans  at treesandgreenspaceccca@gmail.com \n\nTweet\n
URL:https://wordpress2015.centretowncitizens.ca/event/trees-and-greenspaces/
LOCATION:CCHC\, 420 Cooper Street\, Ottawa\, Ontario\, Canada
ORGANIZER;CN="CCCA":MAILTO:ccca@centretowncitizens.ca
END:VEVENT
END:VCALENDAR