BEGIN:VCALENDAR
VERSION:2.0
PRODID:-//CCCA - ECPv4.8.2//NONSGML v1.0//EN
CALSCALE:GREGORIAN
METHOD:PUBLISH
X-WR-CALNAME:CCCA
X-ORIGINAL-URL:https://wordpress2015.centretowncitizens.ca
X-WR-CALDESC:Events for CCCA
BEGIN:VEVENT
DTSTART;TZID=UTC+0:20171128T190000
DTEND;TZID=UTC+0:20171128T210000
DTSTAMP:20260422T225629
CREATED:20171105T152115Z
LAST-MODIFIED:20171105T152631Z
UID:1070-1511895600-1511902800@wordpress2015.centretowncitizens.ca
SUMMARY:Transportation Committee
DESCRIPTION:Our November Committee Meeting \n\nTweet\n
URL:https://wordpress2015.centretowncitizens.ca/event/transportation-committee/
LOCATION:City Hall\, 110 Laurier Avenue West\, Ottawa\, Ontario\, K1P 1J1\, Canada
END:VEVENT
END:VCALENDAR