BEGIN:VCALENDAR
VERSION:2.0
PRODID:-//CCCA - ECPv4.8.2//NONSGML v1.0//EN
CALSCALE:GREGORIAN
METHOD:PUBLISH
X-WR-CALNAME:CCCA
X-ORIGINAL-URL:https://wordpress2015.centretowncitizens.ca
X-WR-CALDESC:Events for CCCA
BEGIN:VEVENT
DTSTART;TZID=UTC+0:20180501T190000
DTEND;TZID=UTC+0:20180501T210000
DTSTAMP:20260422T044645
CREATED:20180331T193432Z
LAST-MODIFIED:20180331T193621Z
UID:1251-1525201200-1525208400@wordpress2015.centretowncitizens.ca
SUMMARY:Transportation Committee Meeting
DESCRIPTION:\nTweet\n
URL:https://wordpress2015.centretowncitizens.ca/event/transportation-committee-meeting/
LOCATION:101-210 Gloucester Street\, 101-210 Gloucester Street\, Ottawa\, Ontario\, Canada
ATTACH;FMTTYPE=image/jpeg:https://wordpress2015.centretowncitizens.ca/wp-content/uploads/2018/01/C-m63PCXkAATI7p.jpg
ORGANIZER;CN="CCCA":MAILTO:ccca@centretowncitizens.ca
END:VEVENT
END:VCALENDAR