BEGIN:VCALENDAR
VERSION:2.0
PRODID:-//CCCA - ECPv4.8.2//NONSGML v1.0//EN
CALSCALE:GREGORIAN
METHOD:PUBLISH
X-WR-CALNAME:CCCA
X-ORIGINAL-URL:https://wordpress2015.centretowncitizens.ca
X-WR-CALDESC:Events for CCCA
BEGIN:VEVENT
DTSTART;TZID=UTC-5:20180306T190000
DTEND;TZID=UTC-5:20180306T210000
DTSTAMP:20260422T133959
CREATED:20180223T010949Z
LAST-MODIFIED:20180301T071228Z
UID:1185-1520362800-1520370000@wordpress2015.centretowncitizens.ca
SUMMARY:Transportation Committee
DESCRIPTION:CCCA Transportation Committee Meeting\, City Hall\, Billings Room\, 7pm to 9pm; \nFor further information please contact transportation@centretowncitizens.ca \n\nTweet\n
URL:https://wordpress2015.centretowncitizens.ca/event/transportation-committee-4/
LOCATION:City Hall\, 110 Laurier Avenue West\, Ottawa\, Ontario\, K1P 1J1\, Canada
END:VEVENT
END:VCALENDAR