BEGIN:VCALENDAR
VERSION:2.0
PRODID:-//CCCA - ECPv4.8.2//NONSGML v1.0//EN
CALSCALE:GREGORIAN
METHOD:PUBLISH
X-WR-CALNAME:CCCA
X-ORIGINAL-URL:https://wordpress2015.centretowncitizens.ca
X-WR-CALDESC:Events for CCCA
BEGIN:VEVENT
DTSTART;TZID=UTC+0:20180206T190000
DTEND;TZID=UTC+0:20180206T210000
DTSTAMP:20260422T154057
CREATED:20180203T070644Z
LAST-MODIFIED:20180203T070644Z
UID:1160-1517943600-1517950800@wordpress2015.centretowncitizens.ca
SUMMARY:Transportation Committee
DESCRIPTION:CCCA Transportation Committee Meeting\, City Hall\, Colonel By Room\, 7pm to 9pm \n\nTweet\n
URL:https://wordpress2015.centretowncitizens.ca/event/transportation-committee-3/
LOCATION:City Hall\, 110 Laurier Avenue West\, Ottawa\, Ontario\, K1P 1J1\, Canada
END:VEVENT
END:VCALENDAR