BEGIN:VCALENDAR
VERSION:2.0
PRODID:-//CCCA - ECPv4.8.2//NONSGML v1.0//EN
CALSCALE:GREGORIAN
METHOD:PUBLISH
X-WR-CALNAME:CCCA
X-ORIGINAL-URL:https://wordpress2015.centretowncitizens.ca
X-WR-CALDESC:Events for CCCA
BEGIN:VEVENT
DTSTART;TZID=UTC+0:20170314T190000
DTEND;TZID=UTC+0:20170314T190000
DTSTAMP:20260423T033554
CREATED:20170313T203020Z
LAST-MODIFIED:20170313T203734Z
UID:805-1489518000-1489518000@wordpress2015.centretowncitizens.ca
SUMMARY:Special "Delivering Community Benefits" Meeting
DESCRIPTION:Join us Special CCCA “Delivering Community Benefits” Meeting\nMarch 14\, 2017 – 7:00 -9:00 PM \nBillings Room\, City Hall \nAgenda March 14 2017 \nThe City is reviewing how it implements our “intensification bonus” by means of the Community Benefits policy (section 37). For those of you that were involved in the development of our Community Design Plan (CDP) this is nothing new\, but for most of us it might be a bit too time consuming to read and keep up with the ever changing City policies. \nThe Centretown Citizens Community Association will be holding a special meeting to discuss the subject.  To better serve our community at this meeting we will be compiling your wants\, needs and unresolved issues\, hopefully clarifying for us what our position on the subject should be. \nTo help prepare\, I have included our position from the CDP which serves as guidelines – Section 7.2  Delivering Community Benefits as well as a short definition on how these benefits are “earned”. \nDEFINITION:  Section 37 authorizes a municipality to pass Zoning By laws involving increases in the height or density.   These  increases are an incentive to the developer to provide\, at no cost to the City\, community benefits to the local community in which the contributing development project is located.  \nFor those of you unable to attend\, we will be sending a survey in the next couple of weeks.  We would appreciate your participation. Help us keep our Centretown worthy of its amazing citizens. Feel to contact me for further information \nMaria Luisa Marti   – membership@centretowncitizens.ca \n  \n  \n\nTweet\n
URL:https://wordpress2015.centretowncitizens.ca/event/special-delivering-community-benefits-meeting/
LOCATION:City Hall\, 110 Laurier Avenue West\, Ottawa\, Ontario\, K1P 1J1\, Canada
ORGANIZER;CN="CCCA":MAILTO:ccca@centretowncitizens.ca
END:VEVENT
END:VCALENDAR