BEGIN:VCALENDAR
VERSION:2.0
PRODID:-//CCCA - ECPv4.8.2//NONSGML v1.0//EN
CALSCALE:GREGORIAN
METHOD:PUBLISH
X-WR-CALNAME:CCCA
X-ORIGINAL-URL:https://wordpress2015.centretowncitizens.ca
X-WR-CALDESC:Events for CCCA
BEGIN:VEVENT
DTSTART;TZID=UTC+0:20180918T190000
DTEND;TZID=UTC+0:20180918T210000
DTSTAMP:20260422T001506
CREATED:20180901T135720Z
LAST-MODIFIED:20180901T135720Z
UID:1323-1537297200-1537304400@wordpress2015.centretowncitizens.ca
SUMMARY:September Board Meeting
DESCRIPTION:Our monthly Board meeting\, after a summer break. Bylaws\, Nominations\, and AGM fun! Richmond Room at City Hall. \n\nTweet\n
URL:https://wordpress2015.centretowncitizens.ca/event/september-board-meeting/
LOCATION:City Hall\, 110 Laurier Avenue West\, Ottawa\, Ontario\, K1P 1J1\, Canada
ATTACH;FMTTYPE=image/jpeg:https://wordpress2015.centretowncitizens.ca/wp-content/uploads/2017/10/cover2.jpg
END:VEVENT
END:VCALENDAR