BEGIN:VCALENDAR
VERSION:2.0
PRODID:-//CCCA - ECPv4.8.2//NONSGML v1.0//EN
CALSCALE:GREGORIAN
METHOD:PUBLISH
X-WR-CALNAME:CCCA
X-ORIGINAL-URL:https://wordpress2015.centretowncitizens.ca
X-WR-CALDESC:Events for CCCA
BEGIN:VEVENT
DTSTART;TZID=UTC+0:20171003T190000
DTEND;TZID=UTC+0:20171003T210000
DTSTAMP:20260423T045444
CREATED:20170929T013356Z
LAST-MODIFIED:20170929T013356Z
UID:923-1507057200-1507064400@wordpress2015.centretowncitizens.ca
SUMMARY:Planning Committee Meeting - October
DESCRIPTION:Bill 139\, 330 Gilmour\, and more. \n\nTweet\n
URL:https://wordpress2015.centretowncitizens.ca/event/planning-committee-meeting-october/
LOCATION:TBD\, Ottawa\, K2P 1X7
END:VEVENT
END:VCALENDAR