BEGIN:VCALENDAR
VERSION:2.0
PRODID:-//CCCA - ECPv4.8.2//NONSGML v1.0//EN
CALSCALE:GREGORIAN
METHOD:PUBLISH
X-WR-CALNAME:CCCA
X-ORIGINAL-URL:https://wordpress2015.centretowncitizens.ca
X-WR-CALDESC:Events for CCCA
BEGIN:VEVENT
DTSTART;TZID=UTC+0:20180108T190000
DTEND;TZID=UTC+0:20180108T210000
DTSTAMP:20260422T222440
CREATED:20180103T012740Z
LAST-MODIFIED:20180103T012740Z
UID:1132-1515438000-1515445200@wordpress2015.centretowncitizens.ca
SUMMARY:Planning Committee Meeting
DESCRIPTION:DRAFT AGENDA For Planning Committee (PC) Meeting\, Monday\, January 8\, 2018\, 7pm to 9pm\, Honeywell Room\, City Hall \n\n\nWelcome to New Members and Introductions\n\n\n\nThe Building Better Communities and Conserving Watersheds Act\, 2017– Bill 139;  Comments on regulations\, etc. due on Jan. 21\, 2018 – further documentation to follow\n\n\n\n355 Cooper Street – Dominion Chalmers Church:   see attached first 3 files\, comments due on Friday\, January 26\, 2018; for City Planning Committee Meeting on Feb. 27\, 2018\n\n\n\n 355 Cooper Planning Rationale-4.pdf\nLocation Map Amendment Application_Image Reference_2017-12-29 – Location map – D01-01-17-0025.pdf\nOP Amendment and Zoning By-Law Application_2017-12-29 – D01-01-17-0025-1.pdf\n\n\n\n350 Bay Street:   Committee of Adjustment (CofA) Minor Variances (see attached last 3 files); applications to be heard by CofA on Wednesday\, Jan. 17\, 2018\, starting at 1 pm.  The deadline for comments to CofA is Friday\, January 12\, 2018.\n350 Bay Street Minor Variance Application Jan 17 2018.pdf\n350 Bay Street plan details.pdf\n350 Bay Location Map.pdf\n\n\n\nInclusionary Zoning:  http://ottawacitizen.com/news/local-news/reevely-new-inclusionary-zoning-rules-will-make-affordable-housing-easier-but-not-a-cinche\n\n\n\nOther business\n\n\nNote:   Recommendations from the CCCA Planning Committee will be considered by the CCCA Board at the January 16\, 2018 Board meeting with the exception of any recommendations related to 350 Bay Street which would require an e-mail vote by the Board to meet the January 12\, 2018 deadline. \n\n\nTweet\n
URL:https://wordpress2015.centretowncitizens.ca/event/planning-committee-meeting-3/
LOCATION:Honeywell Room\,  110 Laurier Ave W\, Ottawa\, Ontario\, K1P1J1\, Canada
END:VEVENT
END:VCALENDAR