BEGIN:VCALENDAR
VERSION:2.0
PRODID:-//CCCA - ECPv4.8.2//NONSGML v1.0//EN
CALSCALE:GREGORIAN
METHOD:PUBLISH
X-WR-CALNAME:CCCA
X-ORIGINAL-URL:https://wordpress2015.centretowncitizens.ca
X-WR-CALDESC:Events for CCCA
BEGIN:VEVENT
DTSTART;TZID=UTC+0:20180205T190000
DTEND;TZID=UTC+0:20180205T210000
DTSTAMP:20260422T172744
CREATED:20180203T065353Z
LAST-MODIFIED:20180203T065353Z
UID:1158-1517857200-1517864400@wordpress2015.centretowncitizens.ca
SUMMARY:Planning Committee
DESCRIPTION:CCCA Planning Committee Meeting\, City Hall\, Billings Room\, 7pm to 9pm \n\nTweet\n
URL:https://wordpress2015.centretowncitizens.ca/event/planning-committee-5/
LOCATION:City Hall\, 110 Laurier Avenue West\, Ottawa\, Ontario\, K1P 1J1\, Canada
END:VEVENT
END:VCALENDAR