BEGIN:VCALENDAR
VERSION:2.0
PRODID:-//CCCA - ECPv4.8.2//NONSGML v1.0//EN
CALSCALE:GREGORIAN
METHOD:PUBLISH
X-WR-CALNAME:CCCA
X-ORIGINAL-URL:https://wordpress2015.centretowncitizens.ca
X-WR-CALDESC:Events for CCCA
BEGIN:VEVENT
DTSTART;VALUE=DATE:20171124
DTEND;VALUE=DATE:20171127
DTSTAMP:20260423T020039
CREATED:20171118T172655Z
LAST-MODIFIED:20171118T172655Z
UID:1103-1511481600-1511740799@wordpress2015.centretowncitizens.ca
SUMMARY:Overbrook the Musical
DESCRIPTION:Based on local lore\, the play offers a peek into the lives of several families\, some long-established and some new to the area. These stories\, spoken and sung in various languages\, are woven together to show the diversity and resilience of this culturally rich neighborhood.\nOverbrook the Musical is the first theatre production of its kind in Ottawa. The entire production has been co-created with local residents: stories (both historic and recent) have been gathered\, the script was developed and songs were written\, all with/by residents. The goal was community building. But the result is….so much more. \n\nTweet\n
URL:https://wordpress2015.centretowncitizens.ca/event/overbrook-the-musical/
ATTACH;FMTTYPE=image/jpeg:https://wordpress2015.centretowncitizens.ca/wp-content/uploads/2017/11/r6QGepKh_400x400.jpg
END:VEVENT
END:VCALENDAR