BEGIN:VCALENDAR
VERSION:2.0
PRODID:-//CCCA - ECPv4.8.2//NONSGML v1.0//EN
CALSCALE:GREGORIAN
METHOD:PUBLISH
X-WR-CALNAME:CCCA
X-ORIGINAL-URL:https://wordpress2015.centretowncitizens.ca
X-WR-CALDESC:Events for CCCA
BEGIN:VEVENT
DTSTART;TZID=UTC+0:20180421T140000
DTEND;TZID=UTC+0:20180421T180000
DTSTAMP:20260422T044909
CREATED:20180331T192910Z
LAST-MODIFIED:20180331T192910Z
UID:1241-1524319200-1524333600@wordpress2015.centretowncitizens.ca
SUMMARY:Ottawa Park Summit - Ecology Ottawa
DESCRIPTION:The annual Ottawa Park Summit is coming on Saturday\, April 21st\, 2018. The biggest park gathering in Ottawa ! \nEach year (on the weekend of Earth Day)\, Ecology Ottawa celebrates parks by organizing our annual Park Summit! This exciting event highlights inspiring groups being active in parks\, gives attendees opportunities to get involved with parks\, and kick-start the year into gear! The idea is that when communities get involved\, parks get better. \nThe event is free but registration is required now at \n  \n\nTweet\n
URL:https://wordpress2015.centretowncitizens.ca/event/ottawa-park-summit-ecology-ottawa/
ATTACH;FMTTYPE=image/jpeg:https://wordpress2015.centretowncitizens.ca/wp-content/uploads/2018/03/29196774_10156467332509734_7468928857367731903_n.jpg
END:VEVENT
END:VCALENDAR