BEGIN:VCALENDAR
VERSION:2.0
PRODID:-//CCCA - ECPv4.8.2//NONSGML v1.0//EN
CALSCALE:GREGORIAN
METHOD:PUBLISH
X-WR-CALNAME:CCCA
X-ORIGINAL-URL:https://wordpress2015.centretowncitizens.ca
X-WR-CALDESC:Events for CCCA
BEGIN:VEVENT
DTSTART;TZID=UTC+0:20171121T190000
DTEND;TZID=UTC+0:20171121T210000
DTSTAMP:20260423T045509
CREATED:20170927T013208Z
LAST-MODIFIED:20170927T013208Z
UID:903-1511290800-1511298000@wordpress2015.centretowncitizens.ca
SUMMARY:November Board Meeting
DESCRIPTION:Come join us at our November Board Meeting\, the first one of the term. \n\nTweet\n
URL:https://wordpress2015.centretowncitizens.ca/event/november-board-meeting/
ORGANIZER;CN="CCCA":MAILTO:ccca@centretowncitizens.ca
END:VEVENT
END:VCALENDAR