BEGIN:VCALENDAR
VERSION:2.0
PRODID:-//CCCA - ECPv4.8.2//NONSGML v1.0//EN
CALSCALE:GREGORIAN
METHOD:PUBLISH
X-WR-CALNAME:CCCA
X-ORIGINAL-URL:https://wordpress2015.centretowncitizens.ca
X-WR-CALDESC:Events for CCCA
BEGIN:VEVENT
DTSTART;TZID=UTC+0:20160430T100000
DTEND;TZID=UTC+0:20160430T130000
DTSTAMP:20260422T031841
CREATED:20160404T150120Z
LAST-MODIFIED:20160404T150120Z
UID:431-1462010400-1462021200@wordpress2015.centretowncitizens.ca
SUMMARY:McNabb Park Clean up - Friends and Family Day
DESCRIPTION:Join your neighbours\, the McNibb Garden Group and the Centretown Citizens Community Association.  Meet us under the Gazebo\, next to the play structure \n\nTweet\n
URL:https://wordpress2015.centretowncitizens.ca/event/mcnabb-friends-family-clean-day/
LOCATION:McNabb Community Centre\, 180 Percy St\,\, Ottawa\, K1R 6E5 
ORGANIZER;CN="CCCA":MAILTO:ccca@centretowncitizens.ca
END:VEVENT
END:VCALENDAR