BEGIN:VCALENDAR
VERSION:2.0
PRODID:-//CCCA - ECPv4.8.2//NONSGML v1.0//EN
CALSCALE:GREGORIAN
METHOD:PUBLISH
X-WR-CALNAME:CCCA
X-ORIGINAL-URL:https://wordpress2015.centretowncitizens.ca
X-WR-CALDESC:Events for CCCA
BEGIN:VEVENT
DTSTART;TZID=UTC+0:20180515T190000
DTEND;TZID=UTC+0:20180515T210000
DTSTAMP:20260422T032053
CREATED:20180331T193033Z
LAST-MODIFIED:20180331T193033Z
UID:1245-1526410800-1526418000@wordpress2015.centretowncitizens.ca
SUMMARY:May Board Meeting
DESCRIPTION:\nTweet\n
URL:https://wordpress2015.centretowncitizens.ca/event/may-board-meeting/
LOCATION:City Hall\, 110 Laurier Avenue West\, Ottawa\, Ontario\, K1P 1J1\, Canada
ORGANIZER;CN="CCCA":MAILTO:ccca@centretowncitizens.ca
END:VEVENT
END:VCALENDAR