BEGIN:VCALENDAR
VERSION:2.0
PRODID:-//CCCA - ECPv4.8.2//NONSGML v1.0//EN
CALSCALE:GREGORIAN
METHOD:PUBLISH
X-WR-CALNAME:CCCA
X-ORIGINAL-URL:https://wordpress2015.centretowncitizens.ca
X-WR-CALDESC:Events for CCCA
BEGIN:VEVENT
DTSTART;TZID=UTC+0:20161124T190000
DTEND;TZID=UTC+0:20161124T200000
DTSTAMP:20260422T160602
CREATED:20161122T214741Z
LAST-MODIFIED:20161122T214741Z
UID:640-1480014000-1480017600@wordpress2015.centretowncitizens.ca
SUMMARY:Library Discussion Group
DESCRIPTION:DRAFT Agenda for Library Committee Thursday\, Nov 24 \n7 to 8 pm \nCentretown Community Health Centre \n420 Cooper Street (between Bank and Kent) \n\n Letters to:\n\n\nThe Mayor\nPotentially friendly Councillors\nTo Centretowners at large\n\nThe letters can all be based on the letter to MP C. Mackenna but modified depending on the specific areas \n\nSample letter to CCCA members for them to send\n\n\nProjects\n\n\nLibrary visits – report on Thursday’s visit – flyers (and fact sheet if possible)\nVideo walk to Bronson/Escarpment\nCoffee shop read-in\n\n\nResearch Items\n\n\nCity plan for Pimisi station\nProjections for Dalhousie population to 2036\nSome issues in Nanos surveys and Cllr T.Nussbaum analysis need explanation – potentially important for our cause\n\n\nOther\n\n\nTweet\n
URL:https://wordpress2015.centretowncitizens.ca/event/library-discussion-group/
LOCATION:CCHC\, 420 Cooper Street\, Ottawa\, Ontario\, Canada
END:VEVENT
END:VCALENDAR