BEGIN:VCALENDAR
VERSION:2.0
PRODID:-//CCCA - ECPv4.8.2//NONSGML v1.0//EN
CALSCALE:GREGORIAN
METHOD:PUBLISH
X-WR-CALNAME:CCCA
X-ORIGINAL-URL:https://wordpress2015.centretowncitizens.ca
X-WR-CALDESC:Events for CCCA
BEGIN:VEVENT
DTSTART;TZID=UTC+0:20180111T190000
DTEND;TZID=UTC+0:20180111T210000
DTSTAMP:20260422T210505
CREATED:20180103T013652Z
LAST-MODIFIED:20180103T013652Z
UID:1137-1515697200-1515704400@wordpress2015.centretowncitizens.ca
SUMMARY:Library Committee Meeting
DESCRIPTION:Discussion of the Library Survey and our next steps. \n\nTweet\n
URL:https://wordpress2015.centretowncitizens.ca/event/library-committee-meeting/
LOCATION:Honeywell Room\,  110 Laurier Ave W\, Ottawa\, Ontario\, K1P1J1\, Canada
ATTACH;FMTTYPE=image/jpeg:https://wordpress2015.centretowncitizens.ca/wp-content/uploads/2017/10/Poster-Library-Services-Survey.jpg
END:VEVENT
END:VCALENDAR