BEGIN:VCALENDAR
VERSION:2.0
PRODID:-//CCCA - ECPv4.8.2//NONSGML v1.0//EN
CALSCALE:GREGORIAN
METHOD:PUBLISH
X-WR-CALNAME:CCCA
X-ORIGINAL-URL:https://wordpress2015.centretowncitizens.ca
X-WR-CALDESC:Events for CCCA
BEGIN:VEVENT
DTSTART;TZID=UTC+0:20171014T110000
DTEND;TZID=UTC+0:20171014T120000
DTSTAMP:20260423T045321
CREATED:20170929T013736Z
LAST-MODIFIED:20170929T013736Z
UID:928-1507978800-1507982400@wordpress2015.centretowncitizens.ca
SUMMARY:Guerrilla Gardening - Centretown Edition (St. Lukes Park)
DESCRIPTION:Come join our Trees and Greenspace committee doing some greening of our neighbourhood through the planting of perennials along the park. \nFacebook event for more details! \nhttp://www.facebook.com/events/933229293482621 \n\nTweet\n
URL:https://wordpress2015.centretowncitizens.ca/event/guerrilla-gardening-centretown-edition-st-lukes-park/
LOCATION:St. Lukes Park\, Somerset & Elgin\, Ottawa
END:VEVENT
END:VCALENDAR