BEGIN:VCALENDAR
VERSION:2.0
PRODID:-//CCCA - ECPv4.8.2//NONSGML v1.0//EN
CALSCALE:GREGORIAN
METHOD:PUBLISH
X-WR-CALNAME:CCCA
X-ORIGINAL-URL:https://wordpress2015.centretowncitizens.ca
X-WR-CALDESC:Events for CCCA
BEGIN:VEVENT
DTSTART;TZID=UTC+0:20171202T093000
DTEND;TZID=UTC+0:20171202T140000
DTSTAMP:20260423T003757
CREATED:20171111T005544Z
LAST-MODIFIED:20171111T005544Z
UID:1088-1512207000-1512223200@wordpress2015.centretowncitizens.ca
SUMMARY:Good Companions - Christmas Bazaar
DESCRIPTION:Join The Good Companions on Saturday\, December 2nd from 9:30 a.m. to 2:00 p.m. for our annual Craft Studio Sale and Christmas Bazaar!\nYou will find handmade crafts from our studios (made by talented members of our Centre!)\, an artisan boutique\, a wide variety of gently used books\, home baked goodies\, a silent auction with over 30 items\, nearly new fashions\, and a treasures room!\nEnjoy a light lunch or full meal while you shop at our Christmas Café.\nWe will also have our famous frozen tourtieres for sale! Make sure to arrive early and purchase yours before they sell out!\nOur event is child friendly\, and will include a visit from Santa Claus himself!\nThere is something for everyone on your list! Pick up a unique item while also supporting a wonderful local charity! Visit us at 670 Albert Street (the corner of Empress Ave. & Albert Street) for a free admission and free parking event! \nhttps://www.facebook.com/events/135753347166336/ \n  \n\nTweet\n
URL:https://wordpress2015.centretowncitizens.ca/event/good-companions-christmas-bazaar/
END:VEVENT
END:VCALENDAR