BEGIN:VCALENDAR
VERSION:2.0
PRODID:-//CCCA - ECPv4.8.2//NONSGML v1.0//EN
CALSCALE:GREGORIAN
METHOD:PUBLISH
X-WR-CALNAME:CCCA
X-ORIGINAL-URL:https://wordpress2015.centretowncitizens.ca
X-WR-CALDESC:Events for CCCA
BEGIN:VEVENT
DTSTART;TZID=UTC+0:20171027T180000
DTEND;TZID=UTC+0:20171027T210000
DTSTAMP:20260423T022304
CREATED:20171011T223416Z
LAST-MODIFIED:20171011T223416Z
UID:963-1509127200-1509138000@wordpress2015.centretowncitizens.ca
SUMMARY:Fall Fling - Centre 507 Fundraiser
DESCRIPTION:Come join us in attending the Centre 507 Fall Fling \nThis is a chili dinner and silent auction with entertainment. Centre 507 is a day centre providing nutritious meals in a safe and supportive environment that fosters community and builds relationships.Tickets for this event are $30 and available in advance at Centre 507\, 507 Bank Street. \n\nTweet\n
URL:https://wordpress2015.centretowncitizens.ca/event/fall-fling-centre-507-fundraiser/
ATTACH;FMTTYPE=image/jpeg:https://wordpress2015.centretowncitizens.ca/wp-content/uploads/2017/10/22384213_1574076389311362_2545596876402143356_o.jpg
END:VEVENT
END:VCALENDAR