BEGIN:VCALENDAR
VERSION:2.0
PRODID:-//CCCA - ECPv4.8.2//NONSGML v1.0//EN
CALSCALE:GREGORIAN
METHOD:PUBLISH
X-WR-CALNAME:CCCA
X-ORIGINAL-URL:https://wordpress2015.centretowncitizens.ca
X-WR-CALDESC:Events for CCCA
BEGIN:VEVENT
DTSTART;TZID=UTC+0:20160628T200000
DTEND;TZID=UTC+0:20160628T210000
DTSTAMP:20260421T101226
CREATED:20160606T163438Z
LAST-MODIFIED:20160606T163438Z
UID:509-1467144000-1467147600@wordpress2015.centretowncitizens.ca
SUMMARY:Executive Meet and Greet
DESCRIPTION:The Lieutenant’s Pump \nFor further information please contact ccca@centretowncitizens.ca \n  \n\nTweet\n
URL:https://wordpress2015.centretowncitizens.ca/event/executive-meet-greet/
LOCATION:The Lieutenant’s Pump\,  361 Elgin St\, Ottawa\, Ontario\, Canada
ORGANIZER;CN="CCCA":MAILTO:ccca@centretowncitizens.ca
END:VEVENT
END:VCALENDAR