BEGIN:VCALENDAR
VERSION:2.0
PRODID:-//CCCA - ECPv4.8.2//NONSGML v1.0//EN
CALSCALE:GREGORIAN
METHOD:PUBLISH
X-WR-CALNAME:CCCA
X-ORIGINAL-URL:https://wordpress2015.centretowncitizens.ca
X-WR-CALDESC:Events for CCCA
BEGIN:VEVENT
DTSTART;TZID=America/Toronto:20190427T100000
DTEND;TZID=America/Toronto:20190427T130000
DTSTAMP:20260419T122610
CREATED:20190423T204246Z
LAST-MODIFIED:20190423T204246Z
UID:1471-1556359200-1556370000@wordpress2015.centretowncitizens.ca
SUMMARY:Earth Day At Dundonald Park\, Saturday\, April 27\, 2019\, 10am to 1pm.
DESCRIPTION:Earth Day At Dundonald Park\, Saturday\, April 27\, 2019\, 10am to 1pm. \nRain Date April 28\, 2019 \nSponsored by: Centretown Citizens Community Association (CCCA)\nDundonald Park Working Group and Office of Councillor Catherine McKenney \n \nStrawberry Ceremony\nIndigenous Group 10 am – 10:30 am\n \nStorytime\nOttawa Public Library 11 am – 11:30am\n \nActivities from 10 am – 1 pm: Bibliobike\nOttawa Public Library\nGreen Thumbs Up\nOttawa Art Gallery Youth Council\n& Kind Space\nRecycling is Cool\nOttawa Community Housing\nSeed Bank Just Food Seed Balls\nDundonald Gardening Group Why Pollinators Matter & Plastic in Our Water\nCCCA Trees & Greenspace Committee\nCraft Corner\nMothercraft & Centretown Grassroots Group\nSorting\, Labeling\, and Matching: It is Never too Early to Recycle\nParent Resource Centre\n \nAlso including: Maker Space Upcycling\, Ecology Ottawa\, Ottawa Police Service\, Agricola Cooperative Farm\,\nTools Lending Library\, Safe Wings\, Friends of Lanark County\, and Centretown Community Health Centre. \n\nTweet\n
URL:https://wordpress2015.centretowncitizens.ca/event/earth-day-at-dundonald-park-saturday-april-27-2019-10am-to-1pm/
LOCATION:Dundonald Park\, Somerset St W (between Bay & Lyon \, Ottawa\, Ontario\, Canada
END:VEVENT
END:VCALENDAR