BEGIN:VCALENDAR
VERSION:2.0
PRODID:-//CCCA - ECPv4.8.2//NONSGML v1.0//EN
CALSCALE:GREGORIAN
METHOD:PUBLISH
X-WR-CALNAME:CCCA
X-ORIGINAL-URL:https://wordpress2015.centretowncitizens.ca
X-WR-CALDESC:Events for CCCA
BEGIN:VEVENT
DTSTART;TZID=UTC+0:20171028T103000
DTEND;TZID=UTC+0:20171028T143000
DTSTAMP:20260423T003635
CREATED:20171021T010534Z
LAST-MODIFIED:20171021T010534Z
UID:974-1509186600-1509201000@wordpress2015.centretowncitizens.ca
SUMMARY:Conservation of Habitat in Ottawa - Ottawa Biosphere Eco-City
DESCRIPTION:The Ottawa Biosphere Eco-City is hosting a speaking event at Beaver Barracks on October 28\, 2017 to review the issue of habitat conservation in Ottawa. \n\nTweet\n
URL:https://wordpress2015.centretowncitizens.ca/event/conservation-habitat-ottawa-ottawa-biosphere-eco-city/
LOCATION:Beaver Barracks\, 464 Metcalfe Street\, Ottawa\, Canada
ATTACH;FMTTYPE=image/jpeg:https://wordpress2015.centretowncitizens.ca/wp-content/uploads/2017/10/OBEC_habitat-workshop-poster-1.jpg
END:VEVENT
END:VCALENDAR