BEGIN:VCALENDAR
VERSION:2.0
PRODID:-//CCCA - ECPv4.8.2//NONSGML v1.0//EN
CALSCALE:GREGORIAN
METHOD:PUBLISH
X-WR-CALNAME:CCCA
X-ORIGINAL-URL:https://wordpress2015.centretowncitizens.ca
X-WR-CALDESC:Events for CCCA
BEGIN:VEVENT
DTSTART;TZID=UTC+0:20180901T080000
DTEND;TZID=UTC+0:20180901T170000
DTSTAMP:20260422T001755
CREATED:20180930T130046Z
LAST-MODIFIED:20180901T140331Z
UID:1325-1535788800-1535821200@wordpress2015.centretowncitizens.ca
SUMMARY:Cleaning the Capital - Minto Park/Jack Purcell
DESCRIPTION:We will be cleaning Minto Park and Jack Purcell for the Fall edition of #cleaningthecapital \n\nTweet\n
URL:https://wordpress2015.centretowncitizens.ca/event/cleaning-the-capital-minto-park-jack-purcell/
LOCATION:Minto Park\, Elgin & Gilmour\, Ottawa\, Canada
ATTACH;FMTTYPE=image/jpeg:https://wordpress2015.centretowncitizens.ca/wp-content/uploads/2018/04/ctc_letterhead_colour-01_0.jpg
END:VEVENT
END:VCALENDAR