BEGIN:VCALENDAR
VERSION:2.0
PRODID:-//CCCA - ECPv4.8.2//NONSGML v1.0//EN
CALSCALE:GREGORIAN
METHOD:PUBLISH
X-WR-CALNAME:CCCA
X-ORIGINAL-URL:https://wordpress2015.centretowncitizens.ca
X-WR-CALDESC:Events for CCCA
BEGIN:VEVENT
DTSTART;TZID=UTC+0:20171021T130000
DTEND;TZID=UTC+0:20171021T140000
DTSTAMP:20260423T063003
CREATED:20170929T012943Z
LAST-MODIFIED:20171012T030849Z
UID:920-1508590800-1508594400@wordpress2015.centretowncitizens.ca
SUMMARY:Cleaning the Capital - Minto Park
DESCRIPTION:Our annual cleaning of Minto Park – \nCheck out our Facebook Page \n  \nhttp://www.facebook.com/events/116373862385943 \n\nTweet\n
URL:https://wordpress2015.centretowncitizens.ca/event/cleaning-capital-minto-park/
LOCATION:Minto Park\, Elgin & Gilmour\, Ottawa\, Canada
END:VEVENT
END:VCALENDAR