BEGIN:VCALENDAR
VERSION:2.0
PRODID:-//CCCA - ECPv4.8.2//NONSGML v1.0//EN
CALSCALE:GREGORIAN
METHOD:PUBLISH
X-WR-CALNAME:CCCA
X-ORIGINAL-URL:https://wordpress2015.centretowncitizens.ca
X-WR-CALDESC:Events for CCCA
BEGIN:VEVENT
DTSTART;TZID=America/Toronto:20190423T190000
DTEND;TZID=America/Toronto:20190423T203000
DTSTAMP:20260419T140341
CREATED:20190423T201907Z
LAST-MODIFIED:20190423T201907Z
UID:1466-1556046000-1556051400@wordpress2015.centretowncitizens.ca
SUMMARY:CCCA Trees & Greenspace Committee Meeting @ 7pm; 101-210 Gloucester St.
DESCRIPTION:CCA Trees & Greenspace Meeting Agenda\, Tuesday\, April 23\, 2019 \n19:00\, CCA Office \n101-210 Gloucester Street \n\nTweet\n
URL:https://wordpress2015.centretowncitizens.ca/event/ccca-trees-101-210-gloucester-st-3/
LOCATION:101-210 Gloucester Street\, 101-210 Gloucester Street\, Ottawa\, Ontario\, Canada
END:VEVENT
END:VCALENDAR