BEGIN:VCALENDAR
VERSION:2.0
PRODID:-//CCCA - ECPv4.8.2//NONSGML v1.0//EN
CALSCALE:GREGORIAN
METHOD:PUBLISH
X-WR-CALNAME:CCCA
X-ORIGINAL-URL:https://wordpress2015.centretowncitizens.ca
X-WR-CALDESC:Events for CCCA
BEGIN:VEVENT
DTSTART;TZID=America/Toronto:20190312T190000
DTEND;TZID=America/Toronto:20190312T203000
DTSTAMP:20260419T231416
CREATED:20190312T215402Z
LAST-MODIFIED:20190312T215402Z
UID:1425-1552417200-1552422600@wordpress2015.centretowncitizens.ca
SUMMARY:CCCA Trees & Greenspace Committee Meeting @ 7pm; 101-210 Gloucester St.
DESCRIPTION:CCA Trees & Greenspace Meeting Agenda\, March 12\, 2019 \n19:00\, CCA Office \n101-210 Gloucester Street \nDiscussions & Decisions \n\nUpdate from the Board (Dinah\, Alice\, Deborah)\n\nUpdate from the Board (Renaming [CCA]\, priorities\, events).\nCAFES Letter – The CCA Board did not support the letter based on a poor understanding of CAFES and the intent of the letter. Discussion for final submission or next steps. \n\n\nPlastic Problems (Ishmael)\n\nPresentation\n\n\nDundonald Park (Dinah & Brian)\n\nDundonald Park Working Group\n\nCommunications\n\n\nDundonald Gardening Group\n\nUpdate (Dinah)\n\n\n\n\nEarth Day Event (Gail\, Dinah\, Alice\, Tom)\n\nFinalizing List of partners\nTD Park People Grant Application update: Alice\n\n\nJanes Walk (Tom)\n\nTheme Discussion (Brainstorming Results).\nDecision. Do we want to host a walk? Ideas if we do?\nDate: May 4-5\, 2019\n\n\nTrees in Centretown West\n\nDiscussion about infill and trimming. Brainstorming/ideas\n\n\nNanny Goat Hill (Tom)\n\nPartnerships\n\n\nMinto Park Plant Sale (Tom)\n\nCo-ordinator(s) – Any interest from a committee member to steer the planning.\nDiscussion.\nBoard participation.\n\n\nClimate Action (Dinah):\n\nEcology Ottawa\nCAFES\nCity of Ottawa Budget\n\n\nOff-Bank Garden (Tom)\n\nPlot lottery scheduled for March 23\, 2019 at City Hall.\nOnly a few plots available.\n\n\n\n  \n\nTweet\n
URL:https://wordpress2015.centretowncitizens.ca/event/ccca-trees-101-210-gloucester-st-2/
LOCATION:101-210 Gloucester Street\, 101-210 Gloucester Street\, Ottawa\, Ontario\, Canada
END:VEVENT
END:VCALENDAR