BEGIN:VCALENDAR
VERSION:2.0
PRODID:-//CCCA - ECPv4.8.2//NONSGML v1.0//EN
CALSCALE:GREGORIAN
METHOD:PUBLISH
X-WR-CALNAME:CCCA
X-ORIGINAL-URL:https://wordpress2015.centretowncitizens.ca
X-WR-CALDESC:Events for CCCA
BEGIN:VEVENT
DTSTART;TZID=America/Toronto:20181208T133000
DTEND;TZID=America/Toronto:20181208T150000
DTSTAMP:20260421T193029
CREATED:20181207T212406Z
LAST-MODIFIED:20181207T212406Z
UID:1388-1544275800-1544281200@wordpress2015.centretowncitizens.ca
SUMMARY:CCCA Public Meeting - Proposed Development For 384 Frank St.
DESCRIPTION:CCCA Public Meeting on Proposed Development For 384 Frank St.; Saturday\, Dec. 8\, 2018\, 1:30pm to 3pm\, Centretown United Church\, 507 Bank Street\, Ottawa\, ON \n\nTweet\n
URL:https://wordpress2015.centretowncitizens.ca/event/ccca-public-meeting-proposed-development-for-384-frank-st/
LOCATION:Centretown United Church\, 507 Bank Street\, Ottawa\, Ontario\, K2P 1Z5\, Canada
END:VEVENT
END:VCALENDAR