BEGIN:VCALENDAR
VERSION:2.0
PRODID:-//CCCA - ECPv4.8.2//NONSGML v1.0//EN
CALSCALE:GREGORIAN
METHOD:PUBLISH
X-WR-CALNAME:CCCA
X-ORIGINAL-URL:https://wordpress2015.centretowncitizens.ca
X-WR-CALDESC:Events for CCCA
BEGIN:VEVENT
DTSTART;TZID=America/Toronto:20190404T183000
DTEND;TZID=America/Toronto:20190404T203000
DTSTAMP:20260419T174506
CREATED:20190404T031410Z
LAST-MODIFIED:20190404T031410Z
UID:1456-1554402600-1554409800@wordpress2015.centretowncitizens.ca
SUMMARY:CCCA Planning Committee Meeting @ 6:30pm\, Royal Oak\, 318 Bank St.
DESCRIPTION:Centretown Community Association\nPlanning Committee Meeting Agenda – Draft\nThursday\, April 4\, 2019\, 6:30pm – 8:30pm\nRoyal Oak\, 318 Bank St. \n(At MacLaren St.) \n\nWelcome and Roundtable Introductions.\nApproval of last meeting minutes\nAffordable housing – discussion with Glebe CA and Synapcity\nCity report on Potential Affordable Housing Sites\nOttawa Official Plan – FCA Committee\nChamberlain\, Catherine\, Isabella Street Functional Design Study (email)\n412 Sparks St.\n100 Argyle (across from Museum of Nature)\nMunicipal Parking Management Strategy (Mindy/Alice)\nCity Rental Accommodations Study\nNext Meeting: Thursday\, May 2\, 2019 (tentative)\n\n\nTweet\n
URL:https://wordpress2015.centretowncitizens.ca/event/ccca-planning-committee-meeting-630pm-royal-oak-318-bank-st/
LOCATION:Royal Oak\, 318 Bank St.\, 318 Bank Street\, Ottawa\, Ontario\, K2P 1X7\, Canada
END:VEVENT
END:VCALENDAR