BEGIN:VCALENDAR
VERSION:2.0
PRODID:-//CCCA - ECPv4.8.2//NONSGML v1.0//EN
CALSCALE:GREGORIAN
METHOD:PUBLISH
X-WR-CALNAME:CCCA
X-ORIGINAL-URL:https://wordpress2015.centretowncitizens.ca
X-WR-CALDESC:Events for CCCA
BEGIN:VEVENT
DTSTART;TZID=UTC+0:20160602T183000
DTEND;TZID=UTC+0:20160602T200000
DTSTAMP:20260421T162353
CREATED:20160530T164542Z
LAST-MODIFIED:20160530T193351Z
UID:505-1464892200-1464897600@wordpress2015.centretowncitizens.ca
SUMMARY:CCCA Planning Committee
DESCRIPTION:Billings Room\, City Hall \nfor further information\, please contact ccca@centretowncitizens.ca \n\nTweet\n
URL:https://wordpress2015.centretowncitizens.ca/event/ccca-planning-committee-5/
LOCATION:City Hall\, 110 Laurier Avenue West\, Ottawa\, Ontario\, K1P 1J1\, Canada
ORGANIZER;CN="CCCA":MAILTO:ccca@centretowncitizens.ca
END:VEVENT
END:VCALENDAR