BEGIN:VCALENDAR
VERSION:2.0
PRODID:-//CCCA - ECPv4.8.2//NONSGML v1.0//EN
CALSCALE:GREGORIAN
METHOD:PUBLISH
X-WR-CALNAME:CCCA
X-ORIGINAL-URL:https://wordpress2015.centretowncitizens.ca
X-WR-CALDESC:Events for CCCA
BEGIN:VEVENT
DTSTART;TZID=UTC+0:20160524T200000
DTEND;TZID=UTC+0:20160524T213000
DTSTAMP:20260421T175738
CREATED:20160428T215601Z
LAST-MODIFIED:20160503T001910Z
UID:466-1464120000-1464125400@wordpress2015.centretowncitizens.ca
SUMMARY:CCCA Executive Meet & Greet
DESCRIPTION:Join us for further information contact Maria Luisa membership@centretowncitizens.ca \n\nTweet\n
URL:https://wordpress2015.centretowncitizens.ca/event/ccca-executive-meet-greet/
LOCATION:The Lieutenant’s Pump\,  361 Elgin St\, Ottawa\, Ontario\, Canada
ORGANIZER;CN="CCCA":MAILTO:ccca@centretowncitizens.ca
END:VEVENT
END:VCALENDAR