BEGIN:VCALENDAR
VERSION:2.0
PRODID:-//CCCA - ECPv4.8.2//NONSGML v1.0//EN
CALSCALE:GREGORIAN
METHOD:PUBLISH
X-WR-CALNAME:CCCA
X-ORIGINAL-URL:https://wordpress2015.centretowncitizens.ca
X-WR-CALDESC:Events for CCCA
BEGIN:VEVENT
DTSTART;TZID=UTC+0:20170221T190000
DTEND;TZID=UTC+0:20170221T210000
DTSTAMP:20260422T232312
CREATED:20170218T152017Z
LAST-MODIFIED:20170218T152017Z
UID:760-1487703600-1487710800@wordpress2015.centretowncitizens.ca
SUMMARY:CCCA Board Meeting
DESCRIPTION:\n\nHello Centretowners:\n\n\nJoin us at the CCCA Board meeting. \nFebruary 21\,  7:00pm\nCity Hall\, Richmond Room\n\n\nContinuing with our year of  “getting to know your neighbours” on the agenda for our Board meeting will be:\n\nVision Zero:  Advocating for the elimination of death and serious injury on Canada’s roads. Our guest is Executive Director Graham Larkin (PhD Harvard University\, 2003) is a lifelong social justice advocate. His advocacy for people-friendly urbanism led Graham to found Vision Zero Canada as a registered non-profit in December 2015. In 2016 he established the Love 30 Canada safe speeds campaign in cooperation with the UK-based 20’s Plenty for Us campaign\, which has improved the streets where millions of people live.\n\nUpdates on the Library decision by Council and our next steps\,  the Elgin Street redevelopment \, our Centretown greenspaces and other Planning issues.   Let us know your thoughts via this email or come to the meeting and have your say. \n\nAgenda and Minutes will be posted on our website before the meeting. Feel free to share with your neighbours.\n\nHope to see you there.  \n\nMaria Luisa Marti\n\n\n\n\nCCCA Communications & Membership\nmembership@centretowncitizens.ca\nhttp://centretowncitizens.ca \n\n\n\n\n\n\n  \n\n\nTweet\n
URL:https://wordpress2015.centretowncitizens.ca/event/ccca-board-meeting-7/
LOCATION:Richmond Room\,  110 Laurier Ave W\, Ottawa\, Ontario\, K1P1J1
END:VEVENT
END:VCALENDAR