BEGIN:VCALENDAR
VERSION:2.0
PRODID:-//CCCA - ECPv4.8.2//NONSGML v1.0//EN
CALSCALE:GREGORIAN
METHOD:PUBLISH
X-WR-CALNAME:CCCA
X-ORIGINAL-URL:https://wordpress2015.centretowncitizens.ca
X-WR-CALDESC:Events for CCCA
BEGIN:VEVENT
DTSTART;TZID=UTC-5:20190115T183000
DTEND;TZID=UTC-5:20190115T203000
DTSTAMP:20260421T130844
CREATED:20190115T061059Z
LAST-MODIFIED:20190115T061059Z
UID:1406-1547577000-1547584200@wordpress2015.centretowncitizens.ca
SUMMARY:CCCA Board Meeting @ 6:30pm\, Montgomery Legion\, 330 Kent Street\, Ottawa\, ON
DESCRIPTION:CCCA Board Meeting on Tuesday\, January 15\, 2019 @ 6:30pm\, Montgomery Legion\, 330 Kent Street\, Ottawa\, ON \n  \n\nTweet\n
URL:https://wordpress2015.centretowncitizens.ca/event/ccca-board-meeting-630pm-montgomery-legion-330-kent-street-ottawa-on/
END:VEVENT
END:VCALENDAR