BEGIN:VCALENDAR
VERSION:2.0
PRODID:-//CCCA - ECPv4.8.2//NONSGML v1.0//EN
CALSCALE:GREGORIAN
METHOD:PUBLISH
X-WR-CALNAME:CCCA
X-ORIGINAL-URL:https://wordpress2015.centretowncitizens.ca
X-WR-CALDESC:Events for CCCA
BEGIN:VEVENT
DTSTART;TZID=America/Toronto:20190319T183000
DTEND;TZID=America/Toronto:20190319T203000
DTSTAMP:20260419T213142
CREATED:20190319T165111Z
LAST-MODIFIED:20190319T165111Z
UID:1433-1553020200-1553027400@wordpress2015.centretowncitizens.ca
SUMMARY:CCCA Board Meeting @ 6:30pm\, Montgomery Legion\, 330 Kent Street\, Ottawa\, ON
DESCRIPTION:CCCA Board Meeting\, Tuesday\, March 19\, 2019 @ 6:30pm\, Montgomery Legion\, 330 Kent Street\, Ottawa\, ON \n\nTweet\n
URL:https://wordpress2015.centretowncitizens.ca/event/ccca-board-meeting-630pm-montgomery-legion-330-kent-street-ottawa-on-2/
LOCATION:330 Kent Street
END:VEVENT
END:VCALENDAR