BEGIN:VCALENDAR
VERSION:2.0
PRODID:-//CCCA - ECPv4.8.2//NONSGML v1.0//EN
CALSCALE:GREGORIAN
METHOD:PUBLISH
X-WR-CALNAME:CCCA
X-ORIGINAL-URL:https://wordpress2015.centretowncitizens.ca
X-WR-CALDESC:Events for CCCA
BEGIN:VEVENT
DTSTART;TZID=America/Toronto:20181212T183000
DTEND;TZID=America/Toronto:20181212T210000
DTSTAMP:20260421T160115
CREATED:20181207T222700Z
LAST-MODIFIED:20181207T222700Z
UID:1399-1544639400-1544648400@wordpress2015.centretowncitizens.ca
SUMMARY:CCCA Board Meeting @ 6:30pm\, Jack Purcell Community Centre\, Room 101
DESCRIPTION:CCCA Board Meeting on Wednesday\, Dec. 12\, 2018 @ 6:30pm\, Jack Purcell Community Centre\, Room 101 \n\nTweet\n
URL:https://wordpress2015.centretowncitizens.ca/event/ccca-board-meeting-630pm-jack-purcell-community-centre-room-101/
LOCATION:Jack Purcell Community Centre\, 320 Jack Purcell Ln\, Ottawa\, ON\, Canada
END:VEVENT
END:VCALENDAR