BEGIN:VCALENDAR
VERSION:2.0
PRODID:-//CCCA - ECPv4.8.2//NONSGML v1.0//EN
CALSCALE:GREGORIAN
METHOD:PUBLISH
X-WR-CALNAME:CCCA
X-ORIGINAL-URL:https://wordpress2015.centretowncitizens.ca
X-WR-CALDESC:Events for CCCA
BEGIN:VEVENT
DTSTART;TZID=UTC+0:20170117T190000
DTEND;TZID=UTC+0:20170117T210000
DTSTAMP:20260422T214909
CREATED:20170117T220823Z
LAST-MODIFIED:20170117T221208Z
UID:729-1484679600-1484686800@wordpress2015.centretowncitizens.ca
SUMMARY:CCCA Board Meeting
DESCRIPTION:Join us for this year’s first CCCA Board meeting. \nJanuary 17\,  7:00pm\nCity Hall\, Richmond Room\n\nWe are making this the year of “getting to know your neighbours”. Our first guest will be the Centretown Community Health Centre’s Executive Director\, Simone Thibault\, will talk about their services and her organization’s contribution on the Library issues\n\nSimone will be introducing Stan Kupferschmidt from the Somerset West Community Health Centre\,  a harm reduction  expert that will  speak on what Safe Injection Sites are all about.\n\n20161213 CCCA Board Meeting-December Draft Minutes \n\n20170113 CCCA Board Meeting-JANUARY Agenda\n\nTweet\n
URL:https://wordpress2015.centretowncitizens.ca/event/ccca-board-meeting-6/
LOCATION:Richmond Room\,  110 Laurier Ave W\, Ottawa\, Ontario\, K1P1J1
ORGANIZER;CN="CCCA":MAILTO:ccca@centretowncitizens.ca
END:VEVENT
END:VCALENDAR