BEGIN:VCALENDAR
VERSION:2.0
PRODID:-//CCCA - ECPv4.8.2//NONSGML v1.0//EN
CALSCALE:GREGORIAN
METHOD:PUBLISH
X-WR-CALNAME:CCCA
X-ORIGINAL-URL:https://wordpress2015.centretowncitizens.ca
X-WR-CALDESC:Events for CCCA
BEGIN:VEVENT
DTSTART;TZID=UTC+0:20161213T190000
DTEND;TZID=UTC+0:20161213T200000
DTSTAMP:20260422T174029
CREATED:20161207T213458Z
LAST-MODIFIED:20161207T222333Z
UID:666-1481655600-1481659200@wordpress2015.centretowncitizens.ca
SUMMARY:CCCA BOARD MEETING
DESCRIPTION: \nJoin us for a pre-festivities Board Meeting festivity at the Richmond Room\, City Hall\, Tuesday December 13 at 7:00 pm. \nWe will posting our agenda in a few days. \nIf you wish to reach out\,  please feel free to contact us at ccca@centretowncitizens. ca \nSee you there Maria Luisa \n  \n  \n  \n  \n\nTweet\n
URL:https://wordpress2015.centretowncitizens.ca/event/ccca-board-meeting-5/
LOCATION:City Hall\, 110 Laurier Avenue West\, Ottawa\, Ontario\, K1P 1J1\, Canada
ORGANIZER;CN="CCCA":MAILTO:ccca@centretowncitizens.ca
END:VEVENT
END:VCALENDAR