BEGIN:VCALENDAR
VERSION:2.0
PRODID:-//CCCA - ECPv4.8.2//NONSGML v1.0//EN
CALSCALE:GREGORIAN
METHOD:PUBLISH
X-WR-CALNAME:CCCA
X-ORIGINAL-URL:https://wordpress2015.centretowncitizens.ca
X-WR-CALDESC:Events for CCCA
BEGIN:VEVENT
DTSTART;TZID=UTC+0:20161018T193000
DTEND;TZID=UTC+0:20161018T213000
DTSTAMP:20260422T114930
CREATED:20160927T053852Z
LAST-MODIFIED:20161017T151000Z
UID:543-1476819000-1476826200@wordpress2015.centretowncitizens.ca
SUMMARY:CCCA ANNUAL GENERAL MEETING
DESCRIPTION:The AGM will be held at the McNabb Community Centre. For further information  you may contact Maria Luisa at ccca@centretowncitizens.ca \ndraft-agm-agenda-and-reports-2016-oct-17 \n  \n\nTweet\n
URL:https://wordpress2015.centretowncitizens.ca/event/ccca-annual-general-meeting/
LOCATION:McNabb Community Centre\, 180 Percy St\,\, Ottawa\, K1R 6E5 
ORGANIZER;CN="CCCA":MAILTO:ccca@centretowncitizens.ca
END:VEVENT
END:VCALENDAR