BEGIN:VCALENDAR
VERSION:2.0
PRODID:-//CCCA - ECPv4.8.2//NONSGML v1.0//EN
CALSCALE:GREGORIAN
METHOD:PUBLISH
X-WR-CALNAME:CCCA
X-ORIGINAL-URL:https://wordpress2015.centretowncitizens.ca
X-WR-CALDESC:Events for CCCA
BEGIN:VEVENT
DTSTART;TZID=America/Toronto:20191112T190000
DTEND;TZID=America/Toronto:20191112T203000
DTSTAMP:20260423T084903
CREATED:20191109T172118Z
LAST-MODIFIED:20191109T172118Z
UID:1607-1573585200-1573590600@wordpress2015.centretowncitizens.ca
SUMMARY:CCA Trees & Greenspace Committee Meeting @ 7pm; Tues.\, Nov. 12\, 2019; 101-210 Gloucester St.
DESCRIPTION:CCA Trees & Greenspace Meeting Agenda\, Tuesday\, Nov. 12\, 2019\n19:00\, Buzz/CCA Office\n210 Gloucester Street\, Unit 101\, Ottawa\, ON \nBrian B. (Chairing) \nDiscussions & Decisions\n1. Matters related to the upcoming CCA AGM\na. Preparation of activity report for Trees and GreenSpace Committee (Brian)\nb. Other matters related to AGM (Tom)\nc. Election of Board members\n2. Tree By-Law Review (Brian)\na.  Planning of next steps\nb. Ecology Ottawa Conference on Official Plan and Environment Nov 15-16\n3. Plastics in Centretown (Stuart and Barbara are out of town)\na. Status report of anticipated next steps (Gail)\n4. Festive Tree and Tree Caper set for December 1  (Tom)\na. Details of procurement of lighting system\nb. Details of Tree Caper installation on Dec 1.\nc. Monitoring in security plans re lighting system through March\nd. Coordination with Graham\, native elder presiding over Solstice ceremony Dec 21 (Brian)\n5. Date of next meeting\na. Logic of suspending meeting in December in view of Tree Bylaw Review activities (Brian)\nb. January 14 is first meeting in New Year\nc. Any interest in a Dec event after Tree Caper on Dec 1 and Thursday Dec 19?\n6. Adjournment \n\nTweet\n
URL:https://wordpress2015.centretowncitizens.ca/event/cca-trees-tues-nov-12-2019-101-210-gloucester-st/
LOCATION:101-210 Gloucester Street\, 101-210 Gloucester Street\, Ottawa\, Ontario\, Canada
END:VEVENT
END:VCALENDAR