BEGIN:VCALENDAR
VERSION:2.0
PRODID:-//CCCA - ECPv4.8.2//NONSGML v1.0//EN
CALSCALE:GREGORIAN
METHOD:PUBLISH
X-WR-CALNAME:CCCA
X-ORIGINAL-URL:https://wordpress2015.centretowncitizens.ca
X-WR-CALDESC:Events for CCCA
BEGIN:VEVENT
DTSTART;TZID=UTC+0:20181103T100000
DTEND;TZID=UTC+0:20181103T120000
DTSTAMP:20260421T224329
CREATED:20181020T013454Z
LAST-MODIFIED:20181020T013454Z
UID:1340-1541239200-1541246400@wordpress2015.centretowncitizens.ca
SUMMARY:Bulb Planting in Centretown
DESCRIPTION:The CCCA will be planting some bulbs at St. Luke’s park. We will be also planting some perennials in a container on O’Connor. Hope to see you there! \nhttp://www.facebook.com/events/2222929831285320/ \n\nTweet\n
URL:https://wordpress2015.centretowncitizens.ca/event/bulb-planting-in-centretown/
LOCATION:St. Lukes Park\, Somerset & Elgin\, Ottawa
END:VEVENT
END:VCALENDAR