BEGIN:VCALENDAR
VERSION:2.0
PRODID:-//CCCA - ECPv4.8.2//NONSGML v1.0//EN
CALSCALE:GREGORIAN
METHOD:PUBLISH
X-WR-CALNAME:CCCA
X-ORIGINAL-URL:https://wordpress2015.centretowncitizens.ca
X-WR-CALDESC:Events for CCCA
BEGIN:VEVENT
DTSTART;TZID=UTC+0:20180220T190000
DTEND;TZID=UTC+0:20180220T210000
DTSTAMP:20260422T134416
CREATED:20180203T072703Z
LAST-MODIFIED:20180203T072703Z
UID:1162-1519153200-1519160400@wordpress2015.centretowncitizens.ca
SUMMARY:Board Meeting
DESCRIPTION:CCCA Board Meeting\, City Hall\, Richmond Room\, 7pm to 9pm \n\nTweet\n
URL:https://wordpress2015.centretowncitizens.ca/event/board-meeting-4/
LOCATION:City Hall\, 110 Laurier Avenue West\, Ottawa\, Ontario\, K1P 1J1\, Canada
END:VEVENT
END:VCALENDAR