BEGIN:VCALENDAR
VERSION:2.0
PRODID:-//CCCA - ECPv4.8.2//NONSGML v1.0//EN
CALSCALE:GREGORIAN
METHOD:PUBLISH
X-WR-CALNAME:CCCA
X-ORIGINAL-URL:https://wordpress2015.centretowncitizens.ca
X-WR-CALDESC:Events for CCCA
BEGIN:VEVENT
DTSTART;TZID=UTC+0:20181120T190000
DTEND;TZID=UTC+0:20181120T210000
DTSTAMP:20260421T210153
CREATED:20181020T013656Z
LAST-MODIFIED:20181020T013656Z
UID:1342-1542740400-1542747600@wordpress2015.centretowncitizens.ca
SUMMARY:Annual General Meeting
DESCRIPTION:We hope you are well and ready for the upcoming election. We’re in the midst of planning our Annual General Meeting and hoping that all the action leading up to the municipal election has inspired you to come to our AGM. We are hoping for help to spread the word leading up to our meeting. If you can join us in sharing social media posts\, talking to your neighbours or delivering some flyers please let us know. \nAn integral part of our AGM will be the bylaw review. The proposed bylaw changes are attached as are an introduction and summary of the changes to the bylaws. \n\nThe AGM is on November 20\, at 19:00. This year our event will be at the Montgomery Legion\, located at 330 Kent Street. You can check out our Facebook\, Twitter\, Eventbrite pages and website.\nFacebook: www.facebook.com/events/332147130858400/\nTwitter: https://twitter.com/CentretownCCA/status/1051466682022023168\nEventbrite: www.eventbrite.ca/e/ccca-annual-general-meeting-tickets-51374752267\n\nTweet\n
URL:https://wordpress2015.centretowncitizens.ca/event/annual-general-meeting-2/
LOCATION:330 Kent Street
END:VEVENT
END:VCALENDAR